BEGIN:VCALENDAR
VERSION:2.0
PRODID:-//SOMOS ABQ - ECPv6.15.20//NONSGML v1.0//EN
CALSCALE:GREGORIAN
METHOD:PUBLISH
X-WR-CALNAME:SOMOS ABQ
X-ORIGINAL-URL:https://www.somosabq.com
X-WR-CALDESC:Events for SOMOS ABQ
REFRESH-INTERVAL;VALUE=DURATION:PT1H
X-Robots-Tag:noindex
X-PUBLISHED-TTL:PT1H
BEGIN:VTIMEZONE
TZID:America/Denver
BEGIN:DAYLIGHT
TZOFFSETFROM:-0700
TZOFFSETTO:-0600
TZNAME:MDT
DTSTART:20210314T090000
END:DAYLIGHT
BEGIN:STANDARD
TZOFFSETFROM:-0600
TZOFFSETTO:-0700
TZNAME:MST
DTSTART:20211107T080000
END:STANDARD
BEGIN:DAYLIGHT
TZOFFSETFROM:-0700
TZOFFSETTO:-0600
TZNAME:MDT
DTSTART:20220313T090000
END:DAYLIGHT
BEGIN:STANDARD
TZOFFSETFROM:-0600
TZOFFSETTO:-0700
TZNAME:MST
DTSTART:20221106T080000
END:STANDARD
BEGIN:DAYLIGHT
TZOFFSETFROM:-0700
TZOFFSETTO:-0600
TZNAME:MDT
DTSTART:20230312T090000
END:DAYLIGHT
BEGIN:STANDARD
TZOFFSETFROM:-0600
TZOFFSETTO:-0700
TZNAME:MST
DTSTART:20231105T080000
END:STANDARD
END:VTIMEZONE
BEGIN:VEVENT
DTSTART;TZID=America/Denver:20220514T170000
DTEND;TZID=America/Denver:20220514T220000
DTSTAMP:20260421T041753
CREATED:20220421T203658Z
LAST-MODIFIED:20220425T151325Z
UID:2247-1652547600-1652565600@www.somosabq.com
SUMMARY:SOMOS DREAMGLOW
DESCRIPTION:Pinch yourself\, you’re not dreaming. SOMOS DREAMGLOW is the big\, bright\, beautiful festival that celebrates the brilliance of Albuquerque\, and brings us all together for a big night of music\, art\, and community. \nWith Big Gigantic\, TOKiMONSTA\, Hannah Wants\, & local artists\n+ Aerialists & Circus Performers\, Hot Air Balloons\, Art Installations\, Food Trucks\, and Local Vendors \nTicketed\, All ages\nRSVP on Facebook     🎟️ Buy Tickets
URL:https://www.somosabq.com/event/somos-dreamglow/
LOCATION:Albuquerque Balloon Museum
CATEGORIES:SOMOS Events
END:VEVENT
BEGIN:VEVENT
DTSTART;TZID=America/Denver:20220507T140000
DTEND;TZID=America/Denver:20220507T183000
DTSTAMP:20260421T041753
CREATED:20220421T201308Z
LAST-MODIFIED:20220506T170035Z
UID:2239-1651932000-1651948200@www.somosabq.com
SUMMARY:SOMOS Family Fiesta
DESCRIPTION:Come together with family and friends as one ABQ community for a full day of fun and games\, music\, and art! This free event celebrates what makes our city beautiful! \nWith live music and dance performances from local artists – headlined by Baracutanga\, art making activities\, circus performers\, face painting\, and more! \nSchedule\n5:30p – 6:30p • Baracutanga\n4:35p – 5:10p • School of Rock\n3:45p – 4:15p • Flamenco Works\n3:00p – 3:30p • Anshe Ko’hanna Dance Group\n2:15p – 2:45p • Baila Baila\n2:00p – 2:15p • Event Start \nFree\, Open To All Ages\nRSVP on Facebook
URL:https://www.somosabq.com/event/somos-family-fiesta/
LOCATION:Harwood Art Center + Escuela del Sol Montessori
CATEGORIES:SOMOS Events
END:VEVENT
END:VCALENDAR